BEGIN:VCALENDAR
VERSION:2.0
PRODID:-//Diamond Logos Nederland - ECPv6.9.0//NONSGML v1.0//EN
CALSCALE:GREGORIAN
METHOD:PUBLISH
X-WR-CALNAME:Diamond Logos Nederland
X-ORIGINAL-URL:https://www.diamondlogos.nl
X-WR-CALDESC:Evenementen voor Diamond Logos Nederland
REFRESH-INTERVAL;VALUE=DURATION:PT1H
X-Robots-Tag:noindex
X-PUBLISHED-TTL:PT1H
BEGIN:VTIMEZONE
TZID:UTC
BEGIN:STANDARD
TZOFFSETFROM:+0000
TZOFFSETTO:+0000
TZNAME:UTC
DTSTART:20210101T000000
END:STANDARD
END:VTIMEZONE
BEGIN:VEVENT
DTSTART;TZID=UTC:20211105T190000
DTEND;TZID=UTC:20211107T200000
DTSTAMP:20260426T024000
CREATED:20211006T120046Z
LAST-MODIFIED:20211006T120608Z
UID:502-1636138800-1636315200@www.diamondlogos.nl
SUMMARY:Light Blue Essence\, Opening to consciousness
DESCRIPTION:
URL:https://www.diamondlogos.nl/event/light-blue-essence-opening-to-consciousness/
LOCATION:Wahid\, Den Haag
END:VEVENT
END:VCALENDAR