BEGIN:VCALENDAR
VERSION:2.0
PRODID:-//Diamond Logos Nederland - ECPv6.9.0//NONSGML v1.0//EN
CALSCALE:GREGORIAN
METHOD:PUBLISH
X-WR-CALNAME:Diamond Logos Nederland
X-ORIGINAL-URL:https://www.diamondlogos.nl
X-WR-CALDESC:Evenementen voor Diamond Logos Nederland
REFRESH-INTERVAL;VALUE=DURATION:PT1H
X-Robots-Tag:noindex
X-PUBLISHED-TTL:PT1H
BEGIN:VTIMEZONE
TZID:UTC
BEGIN:STANDARD
TZOFFSETFROM:+0000
TZOFFSETTO:+0000
TZNAME:UTC
DTSTART:20220101T000000
END:STANDARD
END:VTIMEZONE
BEGIN:VEVENT
DTSTART;TZID=UTC:20220415T080000
DTEND;TZID=UTC:20220415T170000
DTSTAMP:20260425T194821
CREATED:20211013T111218Z
LAST-MODIFIED:20211013T111218Z
UID:592-1650009600-1650042000@www.diamondlogos.nl
SUMMARY:Gele Essentie\, dag 1
DESCRIPTION:
URL:https://www.diamondlogos.nl/event/gele-essentie-dag-1-2/
LOCATION:de Vuurvlieg\, Nijmegen
END:VEVENT
END:VCALENDAR