BEGIN:VCALENDAR
VERSION:2.0
PRODID:-//Diamond Logos Nederland - ECPv6.9.0//NONSGML v1.0//EN
CALSCALE:GREGORIAN
METHOD:PUBLISH
X-WR-CALNAME:Diamond Logos Nederland
X-ORIGINAL-URL:https://www.diamondlogos.nl
X-WR-CALDESC:Evenementen voor Diamond Logos Nederland
REFRESH-INTERVAL;VALUE=DURATION:PT1H
X-Robots-Tag:noindex
X-PUBLISHED-TTL:PT1H
BEGIN:VTIMEZONE
TZID:UTC
BEGIN:STANDARD
TZOFFSETFROM:+0000
TZOFFSETTO:+0000
TZNAME:UTC
DTSTART:20220101T000000
END:STANDARD
END:VTIMEZONE
BEGIN:VEVENT
DTSTART;TZID=UTC:20221007T100000
DTEND;TZID=UTC:20221007T170000
DTSTAMP:20260425T113648
CREATED:20220624T111534Z
LAST-MODIFIED:20220624T112722Z
UID:646-1665136800-1665162000@www.diamondlogos.nl
SUMMARY:Dimensies van Liefde\, dag 2
DESCRIPTION:
URL:https://www.diamondlogos.nl/event/grey-latifa/
LOCATION:de Vuurvlieg\, Nijmegen
END:VEVENT
END:VCALENDAR