BEGIN:VCALENDAR
VERSION:2.0
PRODID:-//Diamond Logos Nederland - ECPv6.9.0//NONSGML v1.0//EN
CALSCALE:GREGORIAN
METHOD:PUBLISH
X-ORIGINAL-URL:https://www.diamondlogos.nl
X-WR-CALDESC:Evenementen voor Diamond Logos Nederland
REFRESH-INTERVAL;VALUE=DURATION:PT1H
X-Robots-Tag:noindex
X-PUBLISHED-TTL:PT1H
BEGIN:VTIMEZONE
TZID:UTC
BEGIN:STANDARD
TZOFFSETFROM:+0000
TZOFFSETTO:+0000
TZNAME:UTC
DTSTART:20220101T000000
END:STANDARD
END:VTIMEZONE
BEGIN:VEVENT
DTSTART;TZID=UTC:20221014T080000
DTEND;TZID=UTC:20221014T170000
DTSTAMP:20260425T113738
CREATED:20220624T111909Z
LAST-MODIFIED:20220624T112456Z
UID:650-1665734400-1665766800@www.diamondlogos.nl
SUMMARY:Grey Latifa
DESCRIPTION:
URL:https://www.diamondlogos.nl/event/grey-latifa-2/
LOCATION:de Vuurvlieg\, Nijmegen
END:VEVENT
BEGIN:VEVENT
DTSTART;TZID=UTC:20221014T100000
DTEND;TZID=UTC:20221014T170000
DTSTAMP:20260425T113738
CREATED:20221017T091404Z
LAST-MODIFIED:20221017T091404Z
UID:709-1665741600-1665766800@www.diamondlogos.nl
SUMMARY:Lichtblauwe Essentie
DESCRIPTION:
URL:https://www.diamondlogos.nl/event/lichtblauwe-essentie/
LOCATION:de Vuurvlieg\, Nijmegen
END:VEVENT
END:VCALENDAR