BEGIN:VCALENDAR
VERSION:2.0
PRODID:-//Diamond Logos Nederland - ECPv6.9.0//NONSGML v1.0//EN
CALSCALE:GREGORIAN
METHOD:PUBLISH
X-ORIGINAL-URL:https://www.diamondlogos.nl
X-WR-CALDESC:Evenementen voor Diamond Logos Nederland
REFRESH-INTERVAL;VALUE=DURATION:PT1H
X-Robots-Tag:noindex
X-PUBLISHED-TTL:PT1H
BEGIN:VTIMEZONE
TZID:UTC
BEGIN:STANDARD
TZOFFSETFROM:+0000
TZOFFSETTO:+0000
TZNAME:UTC
DTSTART:20220101T000000
END:STANDARD
END:VTIMEZONE
BEGIN:VEVENT
DTSTART;TZID=UTC:20221118T100000
DTEND;TZID=UTC:20221118T170000
DTSTAMP:20260425T102020
CREATED:20220624T113003Z
LAST-MODIFIED:20221017T104434Z
UID:659-1668765600-1668790800@www.diamondlogos.nl
SUMMARY:Donkerblauwe essentie\, dag 1
DESCRIPTION:
URL:https://www.diamondlogos.nl/event/grey-latifa-3/
LOCATION:de Vuurvlieg\, Nijmegen
END:VEVENT
END:VCALENDAR