BEGIN:VCALENDAR
VERSION:2.0
PRODID:-//Diamond Logos Nederland - ECPv6.9.0//NONSGML v1.0//EN
CALSCALE:GREGORIAN
METHOD:PUBLISH
X-WR-CALNAME:Diamond Logos Nederland
X-ORIGINAL-URL:https://www.diamondlogos.nl
X-WR-CALDESC:Evenementen voor Diamond Logos Nederland
REFRESH-INTERVAL;VALUE=DURATION:PT1H
X-Robots-Tag:noindex
X-PUBLISHED-TTL:PT1H
BEGIN:VTIMEZONE
TZID:UTC
BEGIN:STANDARD
TZOFFSETFROM:+0000
TZOFFSETTO:+0000
TZNAME:UTC
DTSTART:20230101T000000
END:STANDARD
END:VTIMEZONE
BEGIN:VEVENT
DTSTART;TZID=UTC:20231117T100000
DTEND;TZID=UTC:20231117T170000
DTSTAMP:20260424T180359
CREATED:20230406T135021Z
LAST-MODIFIED:20231031T195505Z
UID:842-1700215200-1700240400@www.diamondlogos.nl
SUMMARY:Lichtend Zwart\, dag 1
DESCRIPTION:
URL:https://www.diamondlogos.nl/event/lichtend-zwart-dag-1/
LOCATION:de Vuurvlieg\, Nijmegen
END:VEVENT
END:VCALENDAR