BEGIN:VCALENDAR
VERSION:2.0
PRODID:-//Diamond Logos Nederland - ECPv6.9.0//NONSGML v1.0//EN
CALSCALE:GREGORIAN
METHOD:PUBLISH
X-WR-CALNAME:Diamond Logos Nederland
X-ORIGINAL-URL:https://www.diamondlogos.nl
X-WR-CALDESC:Evenementen voor Diamond Logos Nederland
REFRESH-INTERVAL;VALUE=DURATION:PT1H
X-Robots-Tag:noindex
X-PUBLISHED-TTL:PT1H
BEGIN:VTIMEZONE
TZID:UTC
BEGIN:STANDARD
TZOFFSETFROM:+0000
TZOFFSETTO:+0000
TZNAME:UTC
DTSTART:20230101T000000
END:STANDARD
END:VTIMEZONE
BEGIN:VEVENT
DTSTART;TZID=UTC:20231222T100000
DTEND;TZID=UTC:20231222T170000
DTSTAMP:20260424T163951
CREATED:20230406T135111Z
LAST-MODIFIED:20230629T135211Z
UID:844-1703239200-1703264400@www.diamondlogos.nl
SUMMARY:Lichtend Zwart\, dag 2
DESCRIPTION:
URL:https://www.diamondlogos.nl/event/lichtend-zwart-dag-2/
LOCATION:de Vuurvlieg\, Nijmegen
END:VEVENT
END:VCALENDAR