BEGIN:VCALENDAR
VERSION:2.0
PRODID:-//Diamond Logos Nederland - ECPv6.9.0//NONSGML v1.0//EN
CALSCALE:GREGORIAN
METHOD:PUBLISH
X-ORIGINAL-URL:https://www.diamondlogos.nl
X-WR-CALDESC:Evenementen voor Diamond Logos Nederland
REFRESH-INTERVAL;VALUE=DURATION:PT1H
X-Robots-Tag:noindex
X-PUBLISHED-TTL:PT1H
BEGIN:VTIMEZONE
TZID:UTC
BEGIN:STANDARD
TZOFFSETFROM:+0000
TZOFFSETTO:+0000
TZNAME:UTC
DTSTART:20240101T000000
END:STANDARD
END:VTIMEZONE
BEGIN:VEVENT
DTSTART;TZID=UTC:20240531T100000
DTEND;TZID=UTC:20240531T170000
DTSTAMP:20260424T102559
CREATED:20240310T135217Z
LAST-MODIFIED:20240310T135217Z
UID:965-1717149600-1717174800@www.diamondlogos.nl
SUMMARY:Holy City\, dag 6
DESCRIPTION:
URL:https://www.diamondlogos.nl/event/holy-city-dag-6/
LOCATION:de Vuurvlieg\, Nijmegen
END:VEVENT
END:VCALENDAR