BEGIN:VCALENDAR
VERSION:2.0
PRODID:-//Diamond Logos Nederland - ECPv6.9.0//NONSGML v1.0//EN
CALSCALE:GREGORIAN
METHOD:PUBLISH
X-ORIGINAL-URL:https://www.diamondlogos.nl
X-WR-CALDESC:Evenementen voor Diamond Logos Nederland
REFRESH-INTERVAL;VALUE=DURATION:PT1H
X-Robots-Tag:noindex
X-PUBLISHED-TTL:PT1H
BEGIN:VTIMEZONE
TZID:UTC
BEGIN:STANDARD
TZOFFSETFROM:+0000
TZOFFSETTO:+0000
TZNAME:UTC
DTSTART:20240101T000000
END:STANDARD
END:VTIMEZONE
BEGIN:VEVENT
DTSTART;TZID=UTC:20241011T080000
DTEND;TZID=UTC:20241011T170000
DTSTAMP:20260424T034559
CREATED:20240705T125356Z
LAST-MODIFIED:20240705T125356Z
UID:1186-1728633600-1728666000@www.diamondlogos.nl
SUMMARY:Stupa\, dag 2
DESCRIPTION:
URL:https://www.diamondlogos.nl/event/stupa-dag-2/
LOCATION:de Vuurvlieg\, Nijmegen
END:VEVENT
END:VCALENDAR