BEGIN:VCALENDAR
VERSION:2.0
PRODID:-//Diamond Logos Nederland - ECPv6.9.0//NONSGML v1.0//EN
CALSCALE:GREGORIAN
METHOD:PUBLISH
X-ORIGINAL-URL:https://www.diamondlogos.nl
X-WR-CALDESC:Evenementen voor Diamond Logos Nederland
REFRESH-INTERVAL;VALUE=DURATION:PT1H
X-Robots-Tag:noindex
X-PUBLISHED-TTL:PT1H
BEGIN:VTIMEZONE
TZID:UTC
BEGIN:STANDARD
TZOFFSETFROM:+0000
TZOFFSETTO:+0000
TZNAME:UTC
DTSTART:20240101T000000
END:STANDARD
END:VTIMEZONE
BEGIN:VEVENT
DTSTART;TZID=UTC:20241209T193000
DTEND;TZID=UTC:20241209T203000
DTSTAMP:20260424T010442
CREATED:20240711T165732Z
LAST-MODIFIED:20240711T165958Z
UID:1231-1733772600-1733776200@www.diamondlogos.nl
SUMMARY:Beoefenen van Aanwezigheid
DESCRIPTION:
URL:https://www.diamondlogos.nl/event/beoefenen-van-aanwezigheid-7/
LOCATION:Online
END:VEVENT
END:VCALENDAR