BEGIN:VCALENDAR
VERSION:2.0
PRODID:-//Diamond Logos Nederland - ECPv6.9.0//NONSGML v1.0//EN
CALSCALE:GREGORIAN
METHOD:PUBLISH
X-ORIGINAL-URL:https://www.diamondlogos.nl
X-WR-CALDESC:Evenementen voor Diamond Logos Nederland
REFRESH-INTERVAL;VALUE=DURATION:PT1H
X-Robots-Tag:noindex
X-PUBLISHED-TTL:PT1H
BEGIN:VTIMEZONE
TZID:UTC
BEGIN:STANDARD
TZOFFSETFROM:+0000
TZOFFSETTO:+0000
TZNAME:UTC
DTSTART:20250101T000000
END:STANDARD
END:VTIMEZONE
BEGIN:VEVENT
DTSTART;TZID=UTC:20251005T100000
DTEND;TZID=UTC:20251005T170000
DTSTAMP:20260423T095545
CREATED:20250610T100823Z
LAST-MODIFIED:20250610T100823Z
UID:1303-1759658400-1759683600@www.diamondlogos.nl
SUMMARY:Radiance\, dag 2
DESCRIPTION:
URL:https://www.diamondlogos.nl/event/radiance-dag-2/
LOCATION:Cordium\, Nijmegen
END:VEVENT
END:VCALENDAR