BEGIN:VCALENDAR
VERSION:2.0
PRODID:-//Diamond Logos Nederland - ECPv6.9.0//NONSGML v1.0//EN
CALSCALE:GREGORIAN
METHOD:PUBLISH
X-ORIGINAL-URL:https://www.diamondlogos.nl
X-WR-CALDESC:Evenementen voor Diamond Logos Nederland
REFRESH-INTERVAL;VALUE=DURATION:PT1H
X-Robots-Tag:noindex
X-PUBLISHED-TTL:PT1H
BEGIN:VTIMEZONE
TZID:UTC
BEGIN:STANDARD
TZOFFSETFROM:+0000
TZOFFSETTO:+0000
TZNAME:UTC
DTSTART:20210101T000000
END:STANDARD
END:VTIMEZONE
BEGIN:VEVENT
DTSTART;TZID=UTC:20211210T100000
DTEND;TZID=UTC:20211210T170000
DTSTAMP:20260425T235211
CREATED:20211007T072959Z
LAST-MODIFIED:20211007T073805Z
UID:529-1639130400-1639155600@www.diamondlogos.nl
SUMMARY:The Deep\, dag 4\, Waterstate
DESCRIPTION:
URL:https://www.diamondlogos.nl/event/the-deep-dag-4-waterstate/
LOCATION:de Vuurvlieg\, Nijmegen
END:VEVENT
BEGIN:VEVENT
DTSTART;TZID=UTC:20211212T001000
DTEND;TZID=UTC:20211212T170000
DTSTAMP:20260425T235211
CREATED:20211007T073338Z
LAST-MODIFIED:20211007T073338Z
UID:532-1639267800-1639328400@www.diamondlogos.nl
SUMMARY:Parel\, dag 4
DESCRIPTION:
URL:https://www.diamondlogos.nl/event/parel-dag-4/
LOCATION:Cordium\, Nijmegen
END:VEVENT
BEGIN:VEVENT
DTSTART;TZID=UTC:20211217T100000
DTEND;TZID=UTC:20211217T100000
DTSTAMP:20260425T235211
CREATED:20211007T073705Z
LAST-MODIFIED:20211007T073705Z
UID:534-1639735200-1639735200@www.diamondlogos.nl
SUMMARY:Zwarte Essentie\, dag 3
DESCRIPTION:
URL:https://www.diamondlogos.nl/event/zwarte-essentie-dag-3/
LOCATION:de Vuurvlieg\, Nijmegen
END:VEVENT
END:VCALENDAR