BEGIN:VCALENDAR
VERSION:2.0
PRODID:-//Diamond Logos Nederland - ECPv6.9.0//NONSGML v1.0//EN
CALSCALE:GREGORIAN
METHOD:PUBLISH
X-WR-CALNAME:Diamond Logos Nederland
X-ORIGINAL-URL:https://www.diamondlogos.nl
X-WR-CALDESC:Evenementen voor Diamond Logos Nederland
REFRESH-INTERVAL;VALUE=DURATION:PT1H
X-Robots-Tag:noindex
X-PUBLISHED-TTL:PT1H
BEGIN:VTIMEZONE
TZID:UTC
BEGIN:STANDARD
TZOFFSETFROM:+0000
TZOFFSETTO:+0000
TZNAME:UTC
DTSTART:20220101T000000
END:STANDARD
END:VTIMEZONE
BEGIN:VEVENT
DTSTART;TZID=UTC:20220311T100000
DTEND;TZID=UTC:20220311T170000
DTSTAMP:20260425T194812
CREATED:20211013T110246Z
LAST-MODIFIED:20211013T110930Z
UID:584-1646992800-1647018000@www.diamondlogos.nl
SUMMARY:Groene Essentie\, dag 3
DESCRIPTION:
URL:https://www.diamondlogos.nl/event/groene-essentie-dag-2/
LOCATION:de Vuurvlieg\, Nijmegen
END:VEVENT
BEGIN:VEVENT
DTSTART;TZID=UTC:20220318T100000
DTEND;TZID=UTC:20220318T170000
DTSTAMP:20260425T194812
CREATED:20211013T105807Z
LAST-MODIFIED:20211013T110618Z
UID:574-1647597600-1647622800@www.diamondlogos.nl
SUMMARY:The Deep\, dag 7
DESCRIPTION:
URL:https://www.diamondlogos.nl/event/the-deep-dag-7/
LOCATION:de Vuurvlieg\, Nijmegen
END:VEVENT
BEGIN:VEVENT
DTSTART;TZID=UTC:20220320T080000
DTEND;TZID=UTC:20220320T170000
DTSTAMP:20260425T194812
CREATED:20211013T110025Z
LAST-MODIFIED:20211013T110025Z
UID:579-1647763200-1647795600@www.diamondlogos.nl
SUMMARY:Parel\, dag 7
DESCRIPTION:
URL:https://www.diamondlogos.nl/event/parel-dag-7/
LOCATION:Cordium\, Nijmegen
END:VEVENT
END:VCALENDAR