BEGIN:VCALENDAR
VERSION:2.0
PRODID:-//Diamond Logos Nederland - ECPv6.9.0//NONSGML v1.0//EN
CALSCALE:GREGORIAN
METHOD:PUBLISH
X-ORIGINAL-URL:https://www.diamondlogos.nl
X-WR-CALDESC:Evenementen voor Diamond Logos Nederland
REFRESH-INTERVAL;VALUE=DURATION:PT1H
X-Robots-Tag:noindex
X-PUBLISHED-TTL:PT1H
BEGIN:VTIMEZONE
TZID:UTC
BEGIN:STANDARD
TZOFFSETFROM:+0000
TZOFFSETTO:+0000
TZNAME:UTC
DTSTART:20220101T000000
END:STANDARD
END:VTIMEZONE
BEGIN:VEVENT
DTSTART;TZID=UTC:20220610T080000
DTEND;TZID=UTC:20220610T170000
DTSTAMP:20260425T153451
CREATED:20211115T190025Z
LAST-MODIFIED:20211115T190025Z
UID:612-1654848000-1654880400@www.diamondlogos.nl
SUMMARY:Gele Essentie\, dag 3
DESCRIPTION:
URL:https://www.diamondlogos.nl/event/gele-essentie-dag-3/
LOCATION:de Vuurvlieg\, Nijmegen
END:VEVENT
BEGIN:VEVENT
DTSTART;TZID=UTC:20220617T080000
DTEND;TZID=UTC:20220617T170000
DTSTAMP:20260425T153451
CREATED:20211115T190117Z
LAST-MODIFIED:20211115T203711Z
UID:614-1655452800-1655485200@www.diamondlogos.nl
SUMMARY:The Deep\, dag 10
DESCRIPTION:
URL:https://www.diamondlogos.nl/event/the-deep-dag-9-2/
LOCATION:de Vuurvlieg\, Nijmegen
END:VEVENT
BEGIN:VEVENT
DTSTART;TZID=UTC:20220626T080000
DTEND;TZID=UTC:20220626T170000
DTSTAMP:20260425T153451
CREATED:20211115T190209Z
LAST-MODIFIED:20211115T190209Z
UID:616-1656230400-1656262800@www.diamondlogos.nl
SUMMARY:Parel\, dag 10
DESCRIPTION:
URL:https://www.diamondlogos.nl/event/parel-dag-10/
LOCATION:Cordium\, Nijmegen
END:VEVENT
END:VCALENDAR