BEGIN:VCALENDAR
VERSION:2.0
PRODID:-//Diamond Logos Nederland - ECPv6.9.0//NONSGML v1.0//EN
CALSCALE:GREGORIAN
METHOD:PUBLISH
X-ORIGINAL-URL:https://www.diamondlogos.nl
X-WR-CALDESC:Evenementen voor Diamond Logos Nederland
REFRESH-INTERVAL;VALUE=DURATION:PT1H
X-Robots-Tag:noindex
X-PUBLISHED-TTL:PT1H
BEGIN:VTIMEZONE
TZID:UTC
BEGIN:STANDARD
TZOFFSETFROM:+0000
TZOFFSETTO:+0000
TZNAME:UTC
DTSTART:20220101T000000
END:STANDARD
END:VTIMEZONE
BEGIN:VEVENT
DTSTART;TZID=UTC:20220902T100000
DTEND;TZID=UTC:20220902T170000
DTSTAMP:20260425T113732
CREATED:20220624T110829Z
LAST-MODIFIED:20220624T110829Z
UID:639-1662112800-1662138000@www.diamondlogos.nl
SUMMARY:Dimensies van Liefde
DESCRIPTION:
URL:https://www.diamondlogos.nl/event/dimensies-van-liefde/
LOCATION:de Vuurvlieg\, Nijmegen
END:VEVENT
BEGIN:VEVENT
DTSTART;TZID=UTC:20220909T100000
DTEND;TZID=UTC:20220909T170000
DTSTAMP:20260425T113732
CREATED:20220624T111121Z
LAST-MODIFIED:20220624T113740Z
UID:641-1662717600-1662742800@www.diamondlogos.nl
SUMMARY:Light Blue Latifa
DESCRIPTION:
URL:https://www.diamondlogos.nl/event/light-blue/
LOCATION:de Vuurvlieg\, Nijmegen
END:VEVENT
BEGIN:VEVENT
DTSTART;TZID=UTC:20220911T100000
DTEND;TZID=UTC:20220911T170000
DTSTAMP:20260425T113732
CREATED:20220624T111337Z
LAST-MODIFIED:20220624T111337Z
UID:643-1662890400-1662915600@www.diamondlogos.nl
SUMMARY:Chandelier\, dag 1
DESCRIPTION:
URL:https://www.diamondlogos.nl/event/chandelier-dag-1/
LOCATION:Cordium\, Nijmegen
END:VEVENT
END:VCALENDAR