BEGIN:VCALENDAR
VERSION:2.0
PRODID:-//Diamond Logos Nederland - ECPv6.9.0//NONSGML v1.0//EN
CALSCALE:GREGORIAN
METHOD:PUBLISH
X-ORIGINAL-URL:https://www.diamondlogos.nl
X-WR-CALDESC:Evenementen voor Diamond Logos Nederland
REFRESH-INTERVAL;VALUE=DURATION:PT1H
X-Robots-Tag:noindex
X-PUBLISHED-TTL:PT1H
BEGIN:VTIMEZONE
TZID:UTC
BEGIN:STANDARD
TZOFFSETFROM:+0000
TZOFFSETTO:+0000
TZNAME:UTC
DTSTART:20230101T000000
END:STANDARD
END:VTIMEZONE
BEGIN:VEVENT
DTSTART;TZID=UTC:20230604T100000
DTEND;TZID=UTC:20230604T170000
DTSTAMP:20260424T233212
CREATED:20221017T094049Z
LAST-MODIFIED:20221017T094049Z
UID:751-1685872800-1685898000@www.diamondlogos.nl
SUMMARY:Chandelier\, dag 9
DESCRIPTION:
URL:https://www.diamondlogos.nl/event/chandelier-dag-9/
LOCATION:Cordium\, Nijmegen
END:VEVENT
BEGIN:VEVENT
DTSTART;TZID=UTC:20230616T080000
DTEND;TZID=UTC:20230616T170000
DTSTAMP:20260424T233212
CREATED:20221017T094353Z
LAST-MODIFIED:20221017T094353Z
UID:757-1686902400-1686934800@www.diamondlogos.nl
SUMMARY:Granaatappel Essentie\, dag 2
DESCRIPTION:
URL:https://www.diamondlogos.nl/event/granaatappel-essentie-dag-2/
LOCATION:de Vuurvlieg\, Nijmegen
END:VEVENT
BEGIN:VEVENT
DTSTART;TZID=UTC:20230623T100000
DTEND;TZID=UTC:20230623T170000
DTSTAMP:20260424T233212
CREATED:20221017T093511Z
LAST-MODIFIED:20221017T093511Z
UID:740-1687514400-1687539600@www.diamondlogos.nl
SUMMARY:Diamond Dome\, dag 6
DESCRIPTION:
URL:https://www.diamondlogos.nl/event/diamond-dome-dag-6/
LOCATION:de Vuurvlieg\, Nijmegen
END:VEVENT
BEGIN:VEVENT
DTSTART;TZID=UTC:20230625T100000
DTEND;TZID=UTC:20230625T170000
DTSTAMP:20260424T233212
CREATED:20221017T094139Z
LAST-MODIFIED:20221017T094139Z
UID:753-1687687200-1687712400@www.diamondlogos.nl
SUMMARY:Chandelier\, dag 10
DESCRIPTION:
URL:https://www.diamondlogos.nl/event/chandelier-dag-10/
LOCATION:Cordium\, Nijmegen
END:VEVENT
END:VCALENDAR