BEGIN:VCALENDAR
VERSION:2.0
PRODID:-//Diamond Logos Nederland - ECPv6.9.0//NONSGML v1.0//EN
CALSCALE:GREGORIAN
METHOD:PUBLISH
X-WR-CALNAME:Diamond Logos Nederland
X-ORIGINAL-URL:https://www.diamondlogos.nl
X-WR-CALDESC:Evenementen voor Diamond Logos Nederland
REFRESH-INTERVAL;VALUE=DURATION:PT1H
X-Robots-Tag:noindex
X-PUBLISHED-TTL:PT1H
BEGIN:VTIMEZONE
TZID:UTC
BEGIN:STANDARD
TZOFFSETFROM:+0000
TZOFFSETTO:+0000
TZNAME:UTC
DTSTART:20230101T000000
END:STANDARD
END:VTIMEZONE
BEGIN:VEVENT
DTSTART;TZID=UTC:20231013T100000
DTEND;TZID=UTC:20231013T170000
DTSTAMP:20260424T180412
CREATED:20230406T133413Z
LAST-MODIFIED:20230629T133329Z
UID:828-1697191200-1697216400@www.diamondlogos.nl
SUMMARY:Koper Goud\, dag 2
DESCRIPTION:
URL:https://www.diamondlogos.nl/event/koper-goud-dag-2/
LOCATION:de Vuurvlieg\, Nijmegen
END:VEVENT
BEGIN:VEVENT
DTSTART;TZID=UTC:20231015T100000
DTEND;TZID=UTC:20231015T170000
DTSTAMP:20260424T180412
CREATED:20230406T131429Z
LAST-MODIFIED:20230829T140042Z
UID:805-1697364000-1697389200@www.diamondlogos.nl
SUMMARY:Diamond Body\, dag 2
DESCRIPTION:
URL:https://www.diamondlogos.nl/event/diamond-dome-dag-2-2/
LOCATION:de Vuurvlieg\, Nijmegen
END:VEVENT
END:VCALENDAR