BEGIN:VCALENDAR
VERSION:2.0
PRODID:-//Diamond Logos Nederland - ECPv6.9.0//NONSGML v1.0//EN
CALSCALE:GREGORIAN
METHOD:PUBLISH
X-ORIGINAL-URL:https://www.diamondlogos.nl
X-WR-CALDESC:Evenementen voor Diamond Logos Nederland
REFRESH-INTERVAL;VALUE=DURATION:PT1H
X-Robots-Tag:noindex
X-PUBLISHED-TTL:PT1H
BEGIN:VTIMEZONE
TZID:UTC
BEGIN:STANDARD
TZOFFSETFROM:+0000
TZOFFSETTO:+0000
TZNAME:UTC
DTSTART:20240101T000000
END:STANDARD
END:VTIMEZONE
BEGIN:VEVENT
DTSTART;TZID=UTC:20240405T100000
DTEND;TZID=UTC:20240405T170000
DTSTAMP:20260424T102557
CREATED:20230924T123417Z
LAST-MODIFIED:20230924T123417Z
UID:904-1712311200-1712336400@www.diamondlogos.nl
SUMMARY:Citadel dag 2
DESCRIPTION:
URL:https://www.diamondlogos.nl/event/citadel-dag-2/
LOCATION:de Vuurvlieg\, Nijmegen
END:VEVENT
BEGIN:VEVENT
DTSTART;TZID=UTC:20240412T100000
DTEND;TZID=UTC:20240412T170000
DTSTAMP:20260424T102557
CREATED:20240228T114059Z
LAST-MODIFIED:20240310T134906Z
UID:953-1712916000-1712941200@www.diamondlogos.nl
SUMMARY:Holy City dag 5
DESCRIPTION:
URL:https://www.diamondlogos.nl/event/holy-city-dag-3/
LOCATION:de Vuurvlieg\, Nijmegen
END:VEVENT
BEGIN:VEVENT
DTSTART;TZID=UTC:20240414T080000
DTEND;TZID=UTC:20240414T170000
DTSTAMP:20260424T102557
CREATED:20230406T132834Z
LAST-MODIFIED:20230829T140316Z
UID:820-1713081600-1713114000@www.diamondlogos.nl
SUMMARY:Diamond Dome\, dag 2
DESCRIPTION:
URL:https://www.diamondlogos.nl/event/diamond-body-dag-2/
LOCATION:Cordium\, Nijmegen
END:VEVENT
END:VCALENDAR