BEGIN:VCALENDAR
VERSION:2.0
PRODID:-//Diamond Logos Nederland - ECPv6.9.0//NONSGML v1.0//EN
CALSCALE:GREGORIAN
METHOD:PUBLISH
X-ORIGINAL-URL:https://www.diamondlogos.nl
X-WR-CALDESC:Evenementen voor Diamond Logos Nederland
REFRESH-INTERVAL;VALUE=DURATION:PT1H
X-Robots-Tag:noindex
X-PUBLISHED-TTL:PT1H
BEGIN:VTIMEZONE
TZID:UTC
BEGIN:STANDARD
TZOFFSETFROM:+0000
TZOFFSETTO:+0000
TZNAME:UTC
DTSTART:20240101T000000
END:STANDARD
END:VTIMEZONE
BEGIN:VEVENT
DTSTART;TZID=UTC:20240906T100000
DTEND;TZID=UTC:20240906T170000
DTSTAMP:20260424T034628
CREATED:20240424T095628Z
LAST-MODIFIED:20240502T084656Z
UID:1098-1725616800-1725642000@www.diamondlogos.nl
SUMMARY:Diamantbewustzijn\, dag 1
DESCRIPTION:
URL:https://www.diamondlogos.nl/event/diamantbewustzijn-dag-1/
LOCATION:de Vuurvlieg\, Nijmegen
END:VEVENT
BEGIN:VEVENT
DTSTART;TZID=UTC:20240913T100000
DTEND;TZID=UTC:20240913T170000
DTSTAMP:20260424T034628
CREATED:20240705T125146Z
LAST-MODIFIED:20240705T125208Z
UID:1184-1726221600-1726246800@www.diamondlogos.nl
SUMMARY:Stupa\, dag 1
DESCRIPTION:
URL:https://www.diamondlogos.nl/event/stupa-dag-1/
LOCATION:de Vuurvlieg\, Nijmegen
END:VEVENT
BEGIN:VEVENT
DTSTART;TZID=UTC:20240915T100000
DTEND;TZID=UTC:20240915T170000
DTSTAMP:20260424T034628
CREATED:20240424T093644Z
LAST-MODIFIED:20240703T140537Z
UID:1078-1726394400-1726419600@www.diamondlogos.nl
SUMMARY:The Deep\, dag 1
DESCRIPTION:
URL:https://www.diamondlogos.nl/event/the-radiance-dag-1/
LOCATION:Cordium\, Nijmegen
END:VEVENT
BEGIN:VEVENT
DTSTART;TZID=UTC:20240916T193000
DTEND;TZID=UTC:20240916T203000
DTSTAMP:20260424T034628
CREATED:20240711T165047Z
LAST-MODIFIED:20240711T165047Z
UID:1218-1726515000-1726518600@www.diamondlogos.nl
SUMMARY:Beoefenen van Aanwezigheid
DESCRIPTION:
URL:https://www.diamondlogos.nl/event/beoefenen-van-aanwezigheid/
LOCATION:Online
END:VEVENT
BEGIN:VEVENT
DTSTART;TZID=UTC:20240930T193000
DTEND;TZID=UTC:20240930T203000
DTSTAMP:20260424T034628
CREATED:20240711T165238Z
LAST-MODIFIED:20240711T170211Z
UID:1221-1727724600-1727728200@www.diamondlogos.nl
SUMMARY:Beoefenen van Aanwezigheid
DESCRIPTION:
URL:https://www.diamondlogos.nl/event/beoefenen-van-aanwezigheid-2/
LOCATION:Online
END:VEVENT
END:VCALENDAR