BEGIN:VCALENDAR
VERSION:2.0
PRODID:-//Diamond Logos Nederland - ECPv6.9.0//NONSGML v1.0//EN
CALSCALE:GREGORIAN
METHOD:PUBLISH
X-WR-CALNAME:Diamond Logos Nederland
X-ORIGINAL-URL:https://www.diamondlogos.nl
X-WR-CALDESC:Evenementen voor Diamond Logos Nederland
REFRESH-INTERVAL;VALUE=DURATION:PT1H
X-Robots-Tag:noindex
X-PUBLISHED-TTL:PT1H
BEGIN:VTIMEZONE
TZID:UTC
BEGIN:STANDARD
TZOFFSETFROM:+0000
TZOFFSETTO:+0000
TZNAME:UTC
DTSTART:20240101T000000
END:STANDARD
END:VTIMEZONE
BEGIN:VEVENT
DTSTART;TZID=UTC:20241209T193000
DTEND;TZID=UTC:20241209T203000
DTSTAMP:20260423T234219
CREATED:20240711T165732Z
LAST-MODIFIED:20240711T165958Z
UID:1231-1733772600-1733776200@www.diamondlogos.nl
SUMMARY:Beoefenen van Aanwezigheid
DESCRIPTION:
URL:https://www.diamondlogos.nl/event/beoefenen-van-aanwezigheid-7/
LOCATION:Online
END:VEVENT
BEGIN:VEVENT
DTSTART;TZID=UTC:20241213T080000
DTEND;TZID=UTC:20241213T170000
DTSTAMP:20260423T234219
CREATED:20240705T125521Z
LAST-MODIFIED:20240705T125521Z
UID:1190-1734076800-1734109200@www.diamondlogos.nl
SUMMARY:Stupa\, dag 4
DESCRIPTION:
URL:https://www.diamondlogos.nl/event/stupa-dag-4/
LOCATION:de Vuurvlieg\, Nijmegen
END:VEVENT
BEGIN:VEVENT
DTSTART;TZID=UTC:20241220T100000
DTEND;TZID=UTC:20241220T170000
DTSTAMP:20260423T234219
CREATED:20240424T095829Z
LAST-MODIFIED:20240424T100055Z
UID:1104-1734688800-1734714000@www.diamondlogos.nl
SUMMARY:Diamantbewustzijn\, dag 4
DESCRIPTION:
URL:https://www.diamondlogos.nl/event/diamantbewustzijn-dag-4/
LOCATION:de Vuurvlieg\, Nijmegen
END:VEVENT
BEGIN:VEVENT
DTSTART;TZID=UTC:20241222T100000
DTEND;TZID=UTC:20241222T170000
DTSTAMP:20260423T234219
CREATED:20240424T094958Z
LAST-MODIFIED:20240703T140646Z
UID:1084-1734861600-1734886800@www.diamondlogos.nl
SUMMARY:The Deep\, dag 4
DESCRIPTION:
URL:https://www.diamondlogos.nl/event/the-radiance-dag-4/
LOCATION:Cordium\, Nijmegen
END:VEVENT
BEGIN:VEVENT
DTSTART;TZID=UTC:20241223T193000
DTEND;TZID=UTC:20241223T203000
DTSTAMP:20260423T234219
CREATED:20240711T165821Z
LAST-MODIFIED:20240711T165821Z
UID:1233-1734982200-1734985800@www.diamondlogos.nl
SUMMARY:Beoefenen van Aanwezigheid
DESCRIPTION:
URL:https://www.diamondlogos.nl/event/beoefenen-van-aanwezigheid-8/
LOCATION:Online
END:VEVENT
END:VCALENDAR