BEGIN:VCALENDAR
VERSION:2.0
PRODID:-//Diamond Logos Nederland - ECPv6.9.0//NONSGML v1.0//EN
CALSCALE:GREGORIAN
METHOD:PUBLISH
X-ORIGINAL-URL:https://www.diamondlogos.nl
X-WR-CALDESC:Evenementen voor Diamond Logos Nederland
REFRESH-INTERVAL;VALUE=DURATION:PT1H
X-Robots-Tag:noindex
X-PUBLISHED-TTL:PT1H
BEGIN:VTIMEZONE
TZID:UTC
BEGIN:STANDARD
TZOFFSETFROM:+0000
TZOFFSETTO:+0000
TZNAME:UTC
DTSTART:20250101T000000
END:STANDARD
END:VTIMEZONE
BEGIN:VEVENT
DTSTART;TZID=UTC:20250509T100000
DTEND;TZID=UTC:20250509T170000
DTSTAMP:20260423T152510
CREATED:20240705T130058Z
LAST-MODIFIED:20250121T210434Z
UID:1201-1746784800-1746810000@www.diamondlogos.nl
SUMMARY:Stupa\, dag 9
DESCRIPTION:
URL:https://www.diamondlogos.nl/event/stupa-dag-9/
END:VEVENT
BEGIN:VEVENT
DTSTART;TZID=UTC:20250511T100000
DTEND;TZID=UTC:20250511T170000
DTSTAMP:20260423T152510
CREATED:20240424T095407Z
LAST-MODIFIED:20240709T102745Z
UID:1094-1746957600-1746982800@www.diamondlogos.nl
SUMMARY:The Deep\, dag 9
DESCRIPTION:
URL:https://www.diamondlogos.nl/event/the-deep-dag-3-2/
LOCATION:de Vuurvlieg\, Nijmegen
END:VEVENT
BEGIN:VEVENT
DTSTART;TZID=UTC:20250530T100000
DTEND;TZID=UTC:20250530T170000
DTSTAMP:20260423T152510
CREATED:20240424T100501Z
LAST-MODIFIED:20240709T102238Z
UID:1114-1748599200-1748624400@www.diamondlogos.nl
SUMMARY:Diamantbewustzijn\, dag 9
DESCRIPTION:
URL:https://www.diamondlogos.nl/event/diamond-dome-dag-3-2/
LOCATION:de Vuurvlieg\, Nijmegen
END:VEVENT
END:VCALENDAR