BEGIN:VCALENDAR
VERSION:2.0
PRODID:-//Diamond Logos Nederland - ECPv6.9.0//NONSGML v1.0//EN
CALSCALE:GREGORIAN
METHOD:PUBLISH
X-WR-CALNAME:Diamond Logos Nederland
X-ORIGINAL-URL:https://www.diamondlogos.nl
X-WR-CALDESC:Evenementen voor Diamond Logos Nederland
REFRESH-INTERVAL;VALUE=DURATION:PT1H
X-Robots-Tag:noindex
X-PUBLISHED-TTL:PT1H
BEGIN:VTIMEZONE
TZID:UTC
BEGIN:STANDARD
TZOFFSETFROM:+0000
TZOFFSETTO:+0000
TZNAME:UTC
DTSTART:20250101T000000
END:STANDARD
END:VTIMEZONE
BEGIN:VEVENT
DTSTART;TZID=UTC:20250620T100000
DTEND;TZID=UTC:20250620T170000
DTSTAMP:20260423T140342
CREATED:20240705T130206Z
LAST-MODIFIED:20240705T130206Z
UID:1203-1750413600-1750438800@www.diamondlogos.nl
SUMMARY:Stupa\, dag 10
DESCRIPTION:
URL:https://www.diamondlogos.nl/event/stupa-dag-10/
LOCATION:de Vuurvlieg\, Nijmegen
END:VEVENT
BEGIN:VEVENT
DTSTART;TZID=UTC:20250622T100000
DTEND;TZID=UTC:20250622T170000
DTSTAMP:20260423T140342
CREATED:20240424T095500Z
LAST-MODIFIED:20240703T140903Z
UID:1096-1750586400-1750611600@www.diamondlogos.nl
SUMMARY:The Deep\, dag 10
DESCRIPTION:
URL:https://www.diamondlogos.nl/event/the-deep-dag-4/
LOCATION:Cordium\, Nijmegen
END:VEVENT
BEGIN:VEVENT
DTSTART;TZID=UTC:20250627T100000
DTEND;TZID=UTC:20250627T170000
DTSTAMP:20260423T140342
CREATED:20240424T100539Z
LAST-MODIFIED:20250121T210751Z
UID:1116-1751018400-1751043600@www.diamondlogos.nl
SUMMARY:Diamantbewustzijn\, dag 10
DESCRIPTION:
URL:https://www.diamondlogos.nl/event/diamond-dome-dag-4-3/
LOCATION:de Vuurvlieg\, Nijmegen
END:VEVENT
END:VCALENDAR